BEGIN:VCALENDAR
VERSION:2.0
PRODID:-//Pick Perry County, Indiana - ECPv6.15.20//NONSGML v1.0//EN
CALSCALE:GREGORIAN
METHOD:PUBLISH
X-WR-CALNAME:Pick Perry County, Indiana
X-ORIGINAL-URL:https://www.pickperry.com
X-WR-CALDESC:Events for Pick Perry County, Indiana
REFRESH-INTERVAL;VALUE=DURATION:PT1H
X-Robots-Tag:noindex
X-PUBLISHED-TTL:PT1H
BEGIN:VTIMEZONE
TZID:America/Indiana/Tell_City
BEGIN:DAYLIGHT
TZOFFSETFROM:-0600
TZOFFSETTO:-0500
TZNAME:CDT
DTSTART:20240310T080000
END:DAYLIGHT
BEGIN:STANDARD
TZOFFSETFROM:-0500
TZOFFSETTO:-0600
TZNAME:CST
DTSTART:20241103T070000
END:STANDARD
BEGIN:DAYLIGHT
TZOFFSETFROM:-0600
TZOFFSETTO:-0500
TZNAME:CDT
DTSTART:20250309T080000
END:DAYLIGHT
BEGIN:STANDARD
TZOFFSETFROM:-0500
TZOFFSETTO:-0600
TZNAME:CST
DTSTART:20251102T070000
END:STANDARD
BEGIN:DAYLIGHT
TZOFFSETFROM:-0600
TZOFFSETTO:-0500
TZNAME:CDT
DTSTART:20260308T080000
END:DAYLIGHT
BEGIN:STANDARD
TZOFFSETFROM:-0500
TZOFFSETTO:-0600
TZNAME:CST
DTSTART:20261101T070000
END:STANDARD
END:VTIMEZONE
BEGIN:VEVENT
DTSTART;TZID=America/Indiana/Tell_City:20251011T170000
DTEND;TZID=America/Indiana/Tell_City:20251011T210000
DTSTAMP:20260423T074351
CREATED:20250904T153204Z
LAST-MODIFIED:20250904T192144Z
UID:10001558-1760202000-1760216400@www.pickperry.com
SUMMARY:Farm To Table 2025
DESCRIPTION:Farm to Table 2025 \n\n\nJoin the Perry County Quality of Life Committee along with Perry Central FFA\, Tell City FFA\, and Tell City Culinary Arts for our annual Farm to Table Dinner!\n\n\n Enjoy a one-of-a-kind meal featuring locally grown food and handpicked recipes for an evening you won’t forget.\n Live music by Josh Merritt – known for his heartfelt songwriting and gritty country-Americana sound.\n New this year: Line dancing fun with Dance Haven Studios!\n\n\nIt’s the perfect evening of delicious food\, great music\, dancing\, and community spirit.\n\n\n Tickets are on sale NOW!\n\n\n$40 per individual ticket\n\n\n$275 for a private table of 8\n\n\n Purchase online: https://www.eventbrite.com/e/1633035215289?aff=oddtdtcreator or stop by the Perry County Development Corporation Office during regular business hours.\n\n\nDon’t wait—this event sells out fast!
URL:https://www.pickperry.com/event/farm-to-table-2025/
LOCATION:Perry County 4-H Fairgrounds\, 99 Roy Fenn Drive\, Tell City\, IN\, 47586\, United States
CATEGORIES:Community Events,Social Event
ATTACH;FMTTYPE=image/png:https://www.pickperry.com/wp-content/uploads/2025/08/farm-to-table-dinner-october-11-2025-scaled.png
END:VEVENT
BEGIN:VEVENT
DTSTART;TZID=America/Indiana/Tell_City:20250712T180000
DTEND;TZID=America/Indiana/Tell_City:20250712T210000
DTSTAMP:20260423T074351
CREATED:20250627T163720Z
LAST-MODIFIED:20250627T163720Z
UID:10001288-1752343200-1752354000@www.pickperry.com
SUMMARY:Perry County 4-H Fair: 2025 Tractor & Truck Pulls
DESCRIPTION:Come out to the Perry County Fairgrounds and enjoy our Tractor and Truck Pulls! Six jam-packed classes of different types of tractors and trucks.
URL:https://www.pickperry.com/event/perry-county-4-h-fair-2025-tractor-truck-pulls/
LOCATION:Perry County 4-H Fairgrounds\, 99 Roy Fenn Drive\, Tell City\, IN\, 47586\, United States
CATEGORIES:Clubs & Organizations,Community Events
ATTACH;FMTTYPE=image/jpeg:https://www.pickperry.com/wp-content/uploads/2025/06/perry-county-tractor-truck-pull-2025.jpg
END:VEVENT
BEGIN:VEVENT
DTSTART;TZID=America/Indiana/Tell_City:20250426T080000
DTEND;TZID=America/Indiana/Tell_City:20250426T100000
DTSTAMP:20260423T074351
CREATED:20250122T190247Z
LAST-MODIFIED:20250122T190247Z
UID:10001265-1745654400-1745661600@www.pickperry.com
SUMMARY:4-H Poultry Blood Testing
DESCRIPTION:
URL:https://www.pickperry.com/event/4-h-poultry-blood-testing/
LOCATION:Perry County 4-H Fairgrounds\, 99 Roy Fenn Drive\, Tell City\, IN\, 47586\, United States
CATEGORIES:Clubs & Organizations
ATTACH;FMTTYPE=image/jpeg:https://www.pickperry.com/wp-content/uploads/2025/01/4h-poultry-blood-testing-april-26.jpg
END:VEVENT
END:VCALENDAR