BEGIN:VCALENDAR
VERSION:2.0
PRODID:-//Pick Perry County, Indiana - ECPv6.15.20//NONSGML v1.0//EN
CALSCALE:GREGORIAN
METHOD:PUBLISH
X-ORIGINAL-URL:https://www.pickperry.com
X-WR-CALDESC:Events for Pick Perry County, Indiana
REFRESH-INTERVAL;VALUE=DURATION:PT1H
X-Robots-Tag:noindex
X-PUBLISHED-TTL:PT1H
BEGIN:VTIMEZONE
TZID:America/Indiana/Tell_City
BEGIN:DAYLIGHT
TZOFFSETFROM:-0600
TZOFFSETTO:-0500
TZNAME:CDT
DTSTART:20240310T080000
END:DAYLIGHT
BEGIN:STANDARD
TZOFFSETFROM:-0500
TZOFFSETTO:-0600
TZNAME:CST
DTSTART:20241103T070000
END:STANDARD
BEGIN:DAYLIGHT
TZOFFSETFROM:-0600
TZOFFSETTO:-0500
TZNAME:CDT
DTSTART:20250309T080000
END:DAYLIGHT
BEGIN:STANDARD
TZOFFSETFROM:-0500
TZOFFSETTO:-0600
TZNAME:CST
DTSTART:20251102T070000
END:STANDARD
BEGIN:DAYLIGHT
TZOFFSETFROM:-0600
TZOFFSETTO:-0500
TZNAME:CDT
DTSTART:20260308T080000
END:DAYLIGHT
BEGIN:STANDARD
TZOFFSETFROM:-0500
TZOFFSETTO:-0600
TZNAME:CST
DTSTART:20261101T070000
END:STANDARD
END:VTIMEZONE
BEGIN:VEVENT
DTSTART;TZID=America/Indiana/Tell_City:20251011T090000
DTEND;TZID=America/Indiana/Tell_City:20251011T160000
DTSTAMP:20260421T025151
CREATED:20250818T160846Z
LAST-MODIFIED:20250818T193015Z
UID:10001323-1760173200-1760198400@www.pickperry.com
SUMMARY:Cannelton Heritage Festival
DESCRIPTION:Mark your calendars for the Cannelton Heritage Festival! 🎉Join us on Saturday\, October 11\, 2025\, from 9 AM – 4 PM at the Cannelton Community Center for a celebration of creativity and tradition. This annual arts & crafts festival showcases talented artisans and craftsmen offering one-of-a-kind\, hand-crafted items you won’t find anywhere else. \n👉 For all event updates and details\, follow the Cannelton Heritage Festival Facebook page.
URL:https://www.pickperry.com/event/cannelton-heritage-festival-2/
LOCATION:Cannelton Community Center\, 100 S. 4th Street\, Cannelton\, IN\, 47520\, United States
CATEGORIES:Community Events
ATTACH;FMTTYPE=image/jpeg:https://www.pickperry.com/wp-content/uploads/2025/08/cannelton-heritage-festival.jpg
END:VEVENT
END:VCALENDAR