BEGIN:VCALENDAR
VERSION:2.0
PRODID:-//Pick Perry County, Indiana - ECPv6.15.17.1//NONSGML v1.0//EN
CALSCALE:GREGORIAN
METHOD:PUBLISH
X-ORIGINAL-URL:https://www.pickperry.com
X-WR-CALDESC:Events for Pick Perry County, Indiana
REFRESH-INTERVAL;VALUE=DURATION:PT1H
X-Robots-Tag:noindex
X-PUBLISHED-TTL:PT1H
BEGIN:VTIMEZONE
TZID:America/Indiana/Tell_City
BEGIN:DAYLIGHT
TZOFFSETFROM:-0600
TZOFFSETTO:-0500
TZNAME:CDT
DTSTART:20240310T080000
END:DAYLIGHT
BEGIN:STANDARD
TZOFFSETFROM:-0500
TZOFFSETTO:-0600
TZNAME:CST
DTSTART:20241103T070000
END:STANDARD
BEGIN:DAYLIGHT
TZOFFSETFROM:-0600
TZOFFSETTO:-0500
TZNAME:CDT
DTSTART:20250309T080000
END:DAYLIGHT
BEGIN:STANDARD
TZOFFSETFROM:-0500
TZOFFSETTO:-0600
TZNAME:CST
DTSTART:20251102T070000
END:STANDARD
BEGIN:DAYLIGHT
TZOFFSETFROM:-0600
TZOFFSETTO:-0500
TZNAME:CDT
DTSTART:20260308T080000
END:DAYLIGHT
BEGIN:STANDARD
TZOFFSETFROM:-0500
TZOFFSETTO:-0600
TZNAME:CST
DTSTART:20261101T070000
END:STANDARD
END:VTIMEZONE
BEGIN:VEVENT
DTSTART;TZID=America/Indiana/Tell_City:20250807T180000
DTEND;TZID=America/Indiana/Tell_City:20250807T200000
DTSTAMP:20260420T003509
CREATED:20250718T154031Z
LAST-MODIFIED:20250718T154031Z
UID:10001320-1754589600-1754596800@www.pickperry.com
SUMMARY:Tell City Schweizer Fest Business of the Year Recognition Reception
DESCRIPTION:The Schweizer Fest annually honors one of Tell City’s business partners for the commitment that the business has made to our community. This year’s honoree is Onyx Private Wealth.\nA celebration reception will be held at William Tell Center\, 645 Main Street\, Tell City\, IN. The Perry County Chamber of Commerce will host a social beginning at 6:00 pm\, followed by a formal dinner and recognition ceremony at 7:15 pm. Hors d’oeuvres and a cash bar will be available.\nTickets are $25 per person and can be purchased at the Perry County Chamber of Commerce office located at 601 Main Street\, Suite A\, in Tell City. Presented by the Perry County Chamber of Commerce and the Tell City Schweizer Fest Committee.
URL:https://www.pickperry.com/event/tell-city-schweizer-fest-business-of-the-year-recognition-reception/
LOCATION:William Tell Center\, 645 Main Street\, Tell City\, IN\, 47586\, United States
CATEGORIES:Clubs & Organizations,Community Events,Networking
ATTACH;FMTTYPE=image/png:https://www.pickperry.com/wp-content/uploads/2025/07/tell-city-schweizer-fest-2025.png
END:VEVENT
BEGIN:VEVENT
DTSTART;VALUE=DATE:20250804
DTEND;VALUE=DATE:20250810
DTSTAMP:20260420T003509
CREATED:20250430T191859Z
LAST-MODIFIED:20250430T191859Z
UID:10001280-1754265600-1754783999@www.pickperry.com
SUMMARY:Schweizer Fest
DESCRIPTION:Tell City’s Schweizer Fest 2025 \nA Celebration of Community\, Tradition\, and Fun! \nGet ready—one of Indiana’s most cherished community festivals is just around the corner! Tell City’s Schweizer Fest returns this summer\, bringing with it all the excitement and tradition you’ve come to love. \nFrom thrilling rides and games to live music\, vendor booths\, and mouthwatering food\, there’s something for everyone to enjoy. This year’s festival will also feature our popular half pot drawing\, and we’ll be announcing even more exciting events soon! Fan favorites making a return include the talent show\, musical\, roadrun\, pie eating contest\, pageant\, bed races\, and our iconic sidewalk sales throughout downtown Tell City. And that’s just the beginning. \nSchweizer Fest is more than an event—it’s where our community comes together. It’s a celebration of our history\, our people\, and the spirit that makes Tell City a place we’re proud to call home. Stay tuned for the full schedule and get ready to make new memories at this unforgettable summer tradition.
URL:https://www.pickperry.com/event/schweizer-fest-21/
LOCATION:City Hall Park\, 9th Street\, Tell City\, IN\, 47586\, United States
CATEGORIES:Community Events
ATTACH;FMTTYPE=image/jpeg:https://www.pickperry.com/wp-content/uploads/2025/04/schweizer-fest-logo.jpg
END:VEVENT
END:VCALENDAR